BEGIN:VCALENDAR
VERSION:1.0
BEGIN:VEVENT
UID:i-event-13
SUMMARY: Event September Blackberry Removal Extravaganza at Cottonwood Forest
DESCRIPTION;ENCODING=QUOTED-PRINTABLE:Are blackberries your jam? They sure are delicious, but did you know that there are two invasive species of blackberry here in Washington that are jamming up our forests and choking out native species? It&#x27;s true! But fear not, citizen hero, because on September 25th 2022 those blackberry will meet you and a small group of likeminded forest advocates at Cottonwood Forest - Snoqualmie&#x27;s very first Green Snoqualmie site. Clad in thick gloves, long sleeves, and pants (trust me). you&#x27;ll use a variety of hand tools to lay waste to these forest invaders while chatting it up with your neighbors and enjoying the beauty of this important urban forest.
LOCATION:Northwest Slope
DTSTART:20220925T090000
DTEND:20220925T120000
END:VEVENT
END:VCALENDAR
